{
 "currentVersion": 10.91,
 "serviceDescription": "",
 "mapName": "Layers",
 "description": "",
 "copyrightText": "",
 "supportsDynamicLayers": true,
 "layers": [
  {
   "id": 0,
   "name": "Pennington_NAIP2010.sid",
   "parentLayerId": -1,
   "defaultVisibility": true,
   "subLayerIds": null,
   "minScale": 0,
   "maxScale": 0,
   "type": "Raster Layer"
  }
 ],
 "tables": [],
 "spatialReference": {
  "wkid": 103763,
  "latestWkid": 103763
 },
 "singleFusedMapCache": true,
 "tileInfo": {
  "rows": 256,
  "cols": 256,
  "dpi": 96,
  "format": "MIXED",
  "compressionQuality": 75,
  "origin": {
   "x": -118323400,
   "y": 1.3803039999999997E8
  },
  "spatialReference": {
   "wkid": 103763,
   "latestWkid": 103763
  },
  "lods": [
   {
    "level": 0,
    "resolution": 347.22222222222223,
    "scale": 400000
   },
   {
    "level": 1,
    "resolution": 217.01388888888889,
    "scale": 250000
   },
   {
    "level": 2,
    "resolution": 108.50694444444444,
    "scale": 125000
   },
   {
    "level": 3,
    "resolution": 65.10416666666666,
    "scale": 75000
   },
   {
    "level": 4,
    "resolution": 43.40277777777778,
    "scale": 50000
   },
   {
    "level": 5,
    "resolution": 20.833333333333332,
    "scale": 24000
   },
   {
    "level": 6,
    "resolution": 10.416666666666666,
    "scale": 12000
   },
   {
    "level": 7,
    "resolution": 7.8125,
    "scale": 9000
   },
   {
    "level": 8,
    "resolution": 5.208333333333333,
    "scale": 6000
   },
   {
    "level": 9,
    "resolution": 2.083333333333333,
    "scale": 2400
   },
   {
    "level": 10,
    "resolution": 1.0416666666666665,
    "scale": 1200
   },
   {
    "level": 11,
    "resolution": 0.5208333333333333,
    "scale": 600
   },
   {
    "level": 12,
    "resolution": 0.26041666666666663,
    "scale": 300
   }
  ]
 },
 "initialExtent": {
  "xmin": 421525.26064763044,
  "ymin": 212818.84551044882,
  "xmax": 729812.7444924096,
  "ymax": 396885.55936950375,
  "spatialReference": {
   "wkid": 103763,
   "latestWkid": 103763
  }
 },
 "fullExtent": {
  "xmin": 447507.5045295214,
  "ymin": 234544.60079880903,
  "xmax": 703165.7815396222,
  "ymax": 362230.9842125792,
  "spatialReference": {
   "wkid": 103763,
   "latestWkid": 103763
  }
 },
 "minScale": 400000,
 "maxScale": 300,
 "units": "esriFeet",
 "supportedImageFormatTypes": "PNG32,PNG24,PNG,JPG,DIB,TIFF,EMF,PS,PDF,GIF,SVG,SVGZ,BMP",
 "documentInfo": {
  "Title": "",
  "Author": "",
  "Comments": "",
  "Subject": "",
  "Category": "",
  "AntialiasingMode": "None",
  "TextAntialiasingMode": "Force",
  "Keywords": ""
 },
 "capabilities": "Map,Query,Data",
 "supportedQueryFormats": "JSON, geoJSON",
 "exportTilesAllowed": false,
 "referenceScale": 0,
 "supportsDatumTransformation": true,
 "maxRecordCount": 1000,
 "maxImageHeight": 4096,
 "maxImageWidth": 4096,
 "supportedExtensions": ""
}
